BEGIN:VCALENDAR
VERSION:2.0
PRODID:Spatie calendar-links
BEGIN:VEVENT
UID:https://lueserbach.de/?post_type=mi-event-date&#038;p=3456
SUMMARY:Klassenfahrt – 3d und 4d
DTSTAMP:20260623T220000Z
DTSTART;VALUE=DATE:20260624
DURATION:P3D
DESCRIPTION:Mehr Informationen: https://lueserbach.de/mi-event/klassenfahrt-3d-und-4d/
END:VEVENT
END:VCALENDAR