BEGIN:VCALENDAR
VERSION:2.0
PRODID:Spatie calendar-links
BEGIN:VEVENT
UID:https://lueserbach.de/?post_type=mi-event-date&#038;p=3440
SUMMARY:Puppenbühne 1c
DTSTAMP:20260503T220000Z
DTSTART;VALUE=DATE:20260504
DURATION:P1D
DESCRIPTION:Mehr Informationen: https://lueserbach.de/mi-event/puppenbuehne-1c/
END:VEVENT
END:VCALENDAR