BEGIN:VCALENDAR
VERSION:2.0
PRODID:Spatie calendar-links
BEGIN:VEVENT
UID:https://lueserbach.de/?post_type=mi-event-date&#038;p=3442
SUMMARY:Puppenbühne 1d
DTSTAMP:20260510T220000Z
DTSTART;VALUE=DATE:20260511
DURATION:P1D
DESCRIPTION:Mehr Informationen: https://lueserbach.de/mi-event/puppenbuehne-1d/
END:VEVENT
END:VCALENDAR