BEGIN:VCALENDAR
VERSION:2.0
PRODID:Spatie calendar-links
BEGIN:VEVENT
UID:https://lueserbach.de/?post_type=mi-event-date&#038;p=3436
SUMMARY:VERA – Jahrgang 3
DTSTAMP:20260421T220000Z
DTSTART;VALUE=DATE:20260422
DURATION:P1D
DESCRIPTION:Mehr Informationen: https://lueserbach.de/mi-event/vera-jahrgang-3/
END:VEVENT
END:VCALENDAR